Workbook

Sheet Sheet1
A3: DATA TIMBULAN DAN PENGELOLAAN SAMPAH TAHUN 2025
A5: No | B5: Kecamatan | C5: Timbulan Sampah (Ton/Tahun) | D5: Sampah Terangkut (Ton/Tahun) | E5: Sampah Terolah (Ton/Tahun) | F5: Sampah Masuk TPA (Ton/Tahun) | G5: Sampah Dikurangi (Ton/Tahun) | H5: Sampah Ditangani (Ton/Tahun) | I5: Sampah Terkelola (Ton/Tahun) | J5: Sampah Tidak Terkelola (Ton/Tahun) | K5: Pengurangan (%) | L5: Penanganan (%)
A6: 1 | B6: RATAHAN | C6: =Sheet2!A2*Sheet2!$A$16 -> 2100.4697 | D6: 1680.38 | E6: 1.2 | F6: 1889.22 | G6: 210.05 | H6: 1890.42 | I6: 2100.47 | J6: 0 | K6: 0.1 | L6: 0.9
A7: 2 | B7: PUSOMAEN | C7: =Sheet2!A3*Sheet2!$A$16 -> 1506.7066 | D7: — | E7: — | F7: — | G7: — | H7: — | I7: — | J7: — | K7: — | L7: —
A8: 3 | B8: BELANG | C8: =Sheet2!A4*Sheet2!$A$16 -> 2466.7257 | D8: =H8 -> 2302.3 | E8: 1.1 | F8: 2301.2 | G8: 172.67 | H8: =F8+E8 -> 2302.3 | I8: 1878.27 | J8: 588.46 | K8: =G8/C8*100% -> 0.069999677 | L8: =H8/C8*100% -> 0.93334254
A9: 4 | B9: RATATOTOK | C9: =Sheet2!A5*Sheet2!$A$16 -> 2113.7325 | D9: — | E9: — | F9: — | G9: — | H9: — | I9: — | J9: — | K9: — | L9: —
A10: 5 | B10: TOMBATU | C10: =Sheet2!A6*Sheet2!$A$16 -> 1603.6267 | D10: 821.79 | E10: 1.62 | F10: 1576.62 | G10: 186.26 | H10: 1578.24 | I10: 1764.5 | J10: 363.28 | K10: 0.0875 | L10: 0.7418
A11: 6 | B11: TOULUAAN | C11: =Sheet2!A7*Sheet2!$A$16 -> 1181.6964 | D11: 0 | E11: 0 | F11: 0 | G11: 0 | H11: 0 | I11: 0 | J11: 0 | K11: - | L11: -
A12: 7 | B12: TOULUAAN SELATAN | C12: =Sheet2!A8*Sheet2!$A$16 -> 847.50427 | D12: — | E12: — | F12: — | G12: — | H12: — | I12: — | J12: — | K12: — | L12: —
A13: 8 | B13: SILIAN RAYA | C13: =Sheet2!A9*Sheet2!$A$16 -> 873.59253 | D13: 227.13 | E13: 0.48 | F13: 314.01 | G13: 27.96 | H13: 314.49 | I13: 342.45 | J13: 6.99 | K13: 0.08 | L13: 0.9
A14: 9 | B14: TOMBATU TIMUR | C14: =Sheet2!A10*Sheet2!$A$16 -> 1395.6493 | D14: 898.96 | E14: 1.94 | F14: 1432.8 | G14: 153.58 | H14: 1434.74 | I14: 1588.32 | J14: 331.48 | K14: 0.08 | L14: 0.7474
A15: 10 | B15: TOMBATU UTARA | C15: =Sheet2!A11*Sheet2!$A$16 -> 1403.5195 | D15: 1010.53 | E15: 1.1 | F15: 1262.07 | G15: 98.25 | H15: 1263.17 | I15: 1361.42 | J15: 42.1 | K15: 0.07 | L15: 0.9
A16: 11 | B16: PASAN | C16: =Sheet2!A12*Sheet2!$A$16 -> 1239.2655 | D16: 1016.2 | E16: 1.3 | F16: 1114.04 | G16: 123.93 | H16: 1115.34 | I16: 1239.27 | J16: 0 | K16: 0.1 | L16: 0.9
A17: 12 | B17: RATAHAN TIMUR | C17: =Sheet2!A13*Sheet2!$A$16 -> 982.12806 | D17: 736.6 | E17: 1.2 | F17: 877.82 | G17: =99.34+40.79 -> 140.13 | H17: 879.02 | I17: 978.36 | J17: 3.77 | K17: 0.1011 | L17: 0.895
A18: Total | B18: Kabupaten Minahasa Tenggara | C18: =SUM(C6:C17) -> 17714.617 | D18: =SUM(D6:D17) -> 8693.89 | E18: =SUM(E6:E17) -> 9.94 | F18: =SUM(F6:F17) -> 10767.78 | G18: =SUM(G6:G17) -> 1112.83 | H18: =SUM(H6:H17) -> 10777.72 | I18: =SUM(I6:I17) -> 11253.06 | J18: =SUM(J6:J17) -> 1336.08 | K18: =G18/C18*100% -> 0.062819874 | L18: =H18/C18*100% -> 0.6084083

Sheet Sheet2
A1: Ton/hari
A2: 5.7547116
A3: 4.1279634
A4: 6.7581525
A5: 5.7910479
A6: 4.3934979
A7: 3.2375244
A8: 2.3219295
A9: 2.3934042
A10: 3.8236968
A11: 3.845259
A12: 3.3952479
A13: =2.6058318+0.08493 -> 2.6907618
A14: =SUM(A2:A13) -> 48.533197
A16: 365 | B16: Hari

Sheet Sheet3
